BEGIN:VCALENDAR
VERSION:2.0
PRODID:Fort Bend County, TX Calendar Creator
METHOD:PUBLISH
BEGIN:VEVENT
DTSTAMP:20260415T091919
DTSTART:20260416T113000
DTEND:20260417T013000
SUMMARY:Fresno Community Meeting
DESCRIPTION:<p>Commissioner Grady Prestage invites residents to attend a comprehensive, multi-agency community meeting focused on the ongoing Fresno Plan and future development in the area. This interactive sessi
CLASS:PUBLIC
END:VEVENT
END:VCALENDAR
